BEGIN:VCALENDAR
VERSION:2.0
PRODID:icalendar-ruby
CALSCALE:GREGORIAN
BEGIN:VEVENT
DTSTAMP:20260422T015654Z
UID:3e8ff383-0749-47c9-8abb-4d646384bf21
DTSTART;VALUE=DATE:20250528
DESCRIPTION:Property ID# 592516\, Locatoin: 62 Queen Street. Upper Hutt\, T
 ime: 2:00PM
SUMMARY:Auction for 
END:VEVENT
END:VCALENDAR
