BEGIN:VCALENDAR
VERSION:2.0
PRODID:icalendar-ruby
CALSCALE:GREGORIAN
BEGIN:VEVENT
DTSTAMP:20260422T014354Z
UID:4316ea19-8be4-4128-9fb0-18a4e0fce516
DTSTART;VALUE=DATE:20241127
DESCRIPTION:Property ID# 584339\, Time: 2:00PM
SUMMARY:Auction for 
END:VEVENT
END:VCALENDAR
