BEGIN:VCALENDAR
VERSION:2.0
PRODID:icalendar-ruby
CALSCALE:GREGORIAN
BEGIN:VEVENT
DTSTAMP:20260421T073301Z
UID:14e56509-cf93-4aa2-a885-7892fa6c8914
DTSTART;VALUE=DATE:20231101
DESCRIPTION:Property ID# 563583\, Locatoin: Harcourts Office  Lower Hutt\, 
 Time: 12:00PM
SUMMARY:Auction for 
END:VEVENT
END:VCALENDAR
