BEGIN:VCALENDAR
VERSION:2.0
PRODID:icalendar-ruby
CALSCALE:GREGORIAN
BEGIN:VEVENT
DTSTAMP:20260421T104920Z
UID:22b9132c-a703-42ed-a446-fd3d0105cb27
DTSTART;VALUE=DATE:20231010
DESCRIPTION:Property ID# 562376\, Time: 3:00PM
SUMMARY:Auction for 
END:VEVENT
END:VCALENDAR
