BEGIN:VCALENDAR
VERSION:2.0
PRODID:icalendar-ruby
CALSCALE:GREGORIAN
BEGIN:VEVENT
DTSTAMP:20260422T014205Z
UID:5ff7adbb-f83c-4eb1-a4f9-c5096844aa82
DTSTART;VALUE=DATE:20230524
DESCRIPTION:Property ID# 556778\, Locatoin: 62 Queen Street\, Upper hutt\, 
 Time: 2:00PM
SUMMARY:Auction for 
END:VEVENT
END:VCALENDAR
