BEGIN:VCALENDAR
VERSION:2.0
PRODID:icalendar-ruby
CALSCALE:GREGORIAN
BEGIN:VEVENT
DTSTAMP:20260421T193914Z
UID:f58b0dea-135c-4582-8d0e-1a32279f1cd1
DTSTART;VALUE=DATE:20211214
DESCRIPTION:Property ID# 524229\, Locatoin: 897 Fergusson Drive\, Upper Hut
 t\, Time: 1:00PM
SUMMARY:Auction for 
END:VEVENT
END:VCALENDAR
