BEGIN:VCALENDAR
VERSION:2.0
PRODID:icalendar-ruby
CALSCALE:GREGORIAN
BEGIN:VEVENT
DTSTAMP:20260422T191005Z
UID:1fd3a8d7-f8e6-4abf-b1f9-75a17440b732
DTSTART;VALUE=DATE:20211125
DESCRIPTION:Property ID# 521746\, Locatoin: 897 Fergusson Drive\, Upper Hut
 t\, Time: 2:00PM
SUMMARY:Auction for 
END:VEVENT
END:VCALENDAR
