BEGIN:VCALENDAR
VERSION:2.0
PRODID:icalendar-ruby
CALSCALE:GREGORIAN
BEGIN:VEVENT
DTSTAMP:20260421T193844Z
UID:6e9b600b-c4bc-4cdb-ad10-b20a991d1afd
DTSTART;VALUE=DATE:20210803
DESCRIPTION:Property ID# 514543\, Locatoin: 897 Fergusson Drive\, Upper Hut
 t\, Time: 1:00PM
SUMMARY:Auction for 
END:VEVENT
END:VCALENDAR
