BEGIN:VCALENDAR
VERSION:2.0
PRODID:icalendar-ruby
CALSCALE:GREGORIAN
BEGIN:VEVENT
DTSTAMP:20260421T193423Z
UID:1c6d5aea-0229-4128-849c-5df317e0ba78
DTSTART;VALUE=DATE:20210511
DESCRIPTION:Property ID# 508790\, Locatoin: 897 Fergusson Drive\, Upper Hut
 t\, Time: 1:00PM
SUMMARY:Auction for 
END:VEVENT
END:VCALENDAR
