BEGIN:VCALENDAR
VERSION:2.0
PRODID:icalendar-ruby
CALSCALE:GREGORIAN
BEGIN:VEVENT
DTSTAMP:20260421T193023Z
UID:dfa78e52-ef19-4743-b063-030a7a22f39e
DTSTART;VALUE=DATE:20210525
DESCRIPTION:Property ID# 507570\, Locatoin: 897 Fergusson Drive\, Upper Hut
 t\, Time: 1:00PM
SUMMARY:Auction for 
END:VEVENT
END:VCALENDAR
