BEGIN:VCALENDAR
VERSION:2.0
PRODID:icalendar-ruby
CALSCALE:GREGORIAN
BEGIN:VEVENT
DTSTAMP:20260421T163214Z
UID:e661e2cc-8396-4e7f-a69d-8bd255e51a04
DTSTART;VALUE=DATE:20210330
DESCRIPTION:Property ID# 504654\, Locatoin: 897 Fergusson Drive\, Upper Hut
 t\, Time: 1:00PM
SUMMARY:Auction for 
END:VEVENT
END:VCALENDAR
