BEGIN:VCALENDAR
VERSION:2.0
PRODID:icalendar-ruby
CALSCALE:GREGORIAN
BEGIN:VEVENT
DTSTAMP:20260421T193914Z
UID:37c23349-b79f-4192-a8c8-1d0133deaf62
DTSTART;VALUE=DATE:20210323
DESCRIPTION:Property ID# 504653\, Locatoin: 897 Fergusson Drive\, Upper Hut
 t\, Time: 1:00PM
SUMMARY:Auction for 
END:VEVENT
END:VCALENDAR
