BEGIN:VCALENDAR
VERSION:2.0
PRODID:icalendar-ruby
CALSCALE:GREGORIAN
BEGIN:VEVENT
DTSTAMP:20260421T193612Z
UID:51d3db9b-1429-455e-850b-85bdfe5b579f
DTSTART;VALUE=DATE:20210310
DESCRIPTION:Property ID# 503119\, Locatoin: 120 Queens Drive\, Lower Hutt\,
  Time: 1:00PM
SUMMARY:Auction for 
END:VEVENT
END:VCALENDAR
