BEGIN:VCALENDAR
VERSION:2.0
PRODID:icalendar-ruby
CALSCALE:GREGORIAN
BEGIN:VEVENT
DTSTAMP:20260421T193540Z
UID:e885ee48-c032-4733-8f28-719ce6426f26
DTSTART;VALUE=DATE:20210202
DESCRIPTION:Property ID# 500081\, Locatoin: 897 Fergusson Drive\, Upper Hut
 t\, Time: 1:00PM
SUMMARY:Auction for 
END:VEVENT
END:VCALENDAR
