BEGIN:VCALENDAR
VERSION:2.0
PRODID:icalendar-ruby
CALSCALE:GREGORIAN
BEGIN:VEVENT
DTSTAMP:20260421T223841Z
UID:b463b0e2-fc45-414a-845a-899104d00e9b
DTSTART;VALUE=DATE:20201210
DESCRIPTION:Property ID# 496541\, Locatoin: 62 Queen Street\, Time: 2:00PM
SUMMARY:Auction for 
END:VEVENT
END:VCALENDAR
